BEGIN:VCALENDAR
VERSION:2.0
PRODID:-//Tukios.com/
BEGIN:VEVENT
UID:f124d730-c0e0-402c-827e-1d14ac00b721@www.dentonwood.com
DTSTAMP:20260422T082430Z
DTSTART:20260417T200000Z
DTEND:20260417T210000Z
SUMMARY:Funeral Service
DESCRIPTION:
URL:https://www.dentonwood.com/obituaries/victor-rubio
LOCATION: 1001 North Canal Street  Carlsbad NM 88220
GEO:32.4323658;-104.2292615
END:VEVENT
END:VCALENDAR