BEGIN:VCALENDAR
VERSION:2.0
PRODID:-//Tukios.com/
BEGIN:VEVENT
UID:4cfbbc26-4924-4370-a9fc-cd4510093650@www.dentonwood.com
DTSTAMP:20260422T205627Z
DTSTART:20260511T160000Z
DTEND:20260511T170000Z
SUMMARY:Funeral Service
DESCRIPTION:
URL:https://www.dentonwood.com/obituaries/juanita-bennett
LOCATION:Immanuel Lutheran Church 901 N. Halagueno  Carlsbad  NM 88220
GEO:32.4303003;-104.2304786
END:VEVENT
END:VCALENDAR