BEGIN:VCALENDAR
VERSION:2.0
PRODID:-//Tukios.com/
BEGIN:VEVENT
UID:aa601653-76ed-4201-aaac-61a5fcbf4b02@www.dentonwood.com
DTSTAMP:20260422T205559Z
DTSTART:20260510T220000Z
DTEND:20260511T000000Z
SUMMARY:Visitation
DESCRIPTION:
URL:https://www.dentonwood.com/obituaries/juanita-bennett
LOCATION:Denton-Wood Funeral Home 1001 N Canal St.  Carlsbad NM 88220
GEO:32.4323658;-104.2292615
END:VEVENT
END:VCALENDAR