BEGIN:VCALENDAR
VERSION:2.0
PRODID:-//Tukios.com/
BEGIN:VEVENT
UID:0ad3f5bc-86c4-4bcb-9504-07926595dbcb@www.dentonwood.com
DTSTAMP:20260423T234121Z
DTSTART:20260501T160000Z
DTEND:20260501T170000Z
SUMMARY:Graveside Service
DESCRIPTION:
URL:https://www.dentonwood.com/obituaries/eleanor-liu
LOCATION:Santa Catarina Cemetery 1506 Boyd Drive  Carlsbad NM 88220
GEO:32.4033227;-104.237487
END:VEVENT
END:VCALENDAR