BEGIN:VCALENDAR
VERSION:2.0
PRODID:-//Tukios.com/
BEGIN:VEVENT
UID:70b2a347-1f30-45da-8f48-3d6dde0c2101@www.dentonwood.com
DTSTAMP:20260425T025202Z
DTSTART:20260430T223000Z
DTEND:20260501T013000Z
SUMMARY:Celebration of Life
DESCRIPTION:
URL:https://www.dentonwood.com/obituaries/brad-jennings
LOCATION:Milton’s Brewery 213 West Mermod Street  Carlsbad NM 88220
GEO:32.420054;-104.228451
END:VEVENT
END:VCALENDAR